BEGIN:VCALENDAR
VERSION:2.0
PRODID:-//Cornell Club of Switzerland
CALSCALE:GREGORIAN
METHOD:PUBLISH
X-WR-CALNAME:Cornell Club of Switzerland
X-ORIGINAL-URL:https://cornellswitzerland.ch/product/archeological-site-tour-at-st-pierre-cathedral/
X-WR-CALDESC:Archeological Site Tour at St-Pierre Cathedral
BEGIN:VTIMEZONE
TZID:Europe/Helsinki
END:VTIMEZONE
BEGIN:VEVENT
DTSTART;TZID=Europe/Helsinki:20260425T144500
DTEND;TZID=Europe/Helsinki:20260425T190000
DTSTAMP:20260420T104648
UID:5413-admin@cornellswitzerland.ch
SUMMARY:Archeological Site Tour at St-Pierre Cathedral
DESCRIPTION:Join us on Saturday, 25 April 2026 for a guided visit in English to the archaeological site beneath St. Peter’s Cathedral, an extraordinary underground journey through more than 2,000 years of Geneva’s history. Mark your calendars to visit this remarkable site that reveals layers of Roman, medieval, and early Christian remains hidden beneath the city’s iconic landmark! Then join us for a dinner at the Hotel de Ville known for its warm ambiance and authentic cuisine of Geneva. Details are listed below. &nbsp; PLEASE NOTE:  Participants who have not paid their Cornell Club of Switzerland membership dues will be asked to pay an additional CHF 4 for the entrance fee to the archeological site. Thank you for understanding.
URL:https://cornellswitzerland.ch/product/archeological-site-tour-at-st-pierre-cathedral/
LOCATION:Site archéologique de la Cathédrale Saint-Pierre de Genève, Cour de Saint-Pierre 6, 1204 Geneva, Switzerland
END:VEVENT
END:VCALENDAR
